BEGIN:VCALENDAR
VERSION:2.0
PRODID:-//wp-events-plugin.com//7.2.3.1//EN
BEGIN:VEVENT
UID:5-322@association360.ch
DTSTART:20150524T230000Z
DTEND:20150524T230000Z
DTSTAMP:20150429T123027Z
URL:https://association360.ch/tamalou/agenda/visite-au-groupe-seniors-de-l
 association-vogay/
SUMMARY:Visite au groupe Séniors de l'association Vogay
DESCRIPTION:Infos par mail: tamalou@360.ch ou par téléphone 076 519 46 
 83
END:VEVENT
END:VCALENDAR